BEGIN:VCALENDAR
VERSION:2.0
PRODID:-//NJ Reentry Corporation - ECPv6.15.20//NONSGML v1.0//EN
CALSCALE:GREGORIAN
METHOD:PUBLISH
X-WR-CALNAME:NJ Reentry Corporation
X-ORIGINAL-URL:https://njreentry.org
X-WR-CALDESC:Events for NJ Reentry Corporation
REFRESH-INTERVAL;VALUE=DURATION:PT1H
X-Robots-Tag:noindex
X-PUBLISHED-TTL:PT1H
BEGIN:VTIMEZONE
TZID:America/New_York
BEGIN:DAYLIGHT
TZOFFSETFROM:-0500
TZOFFSETTO:-0400
TZNAME:EDT
DTSTART:20250309T070000
END:DAYLIGHT
BEGIN:STANDARD
TZOFFSETFROM:-0400
TZOFFSETTO:-0500
TZNAME:EST
DTSTART:20251102T060000
END:STANDARD
BEGIN:DAYLIGHT
TZOFFSETFROM:-0500
TZOFFSETTO:-0400
TZNAME:EDT
DTSTART:20260308T070000
END:DAYLIGHT
BEGIN:STANDARD
TZOFFSETFROM:-0400
TZOFFSETTO:-0500
TZNAME:EST
DTSTART:20261101T060000
END:STANDARD
BEGIN:DAYLIGHT
TZOFFSETFROM:-0500
TZOFFSETTO:-0400
TZNAME:EDT
DTSTART:20270314T070000
END:DAYLIGHT
BEGIN:STANDARD
TZOFFSETFROM:-0400
TZOFFSETTO:-0500
TZNAME:EST
DTSTART:20271107T060000
END:STANDARD
END:VTIMEZONE
BEGIN:VEVENT
DTSTART;TZID=America/New_York:20260427T090000
DTEND;TZID=America/New_York:20260505T130000
DTSTAMP:20260424T091246
CREATED:20260107T013145Z
LAST-MODIFIED:20260107T013145Z
UID:10002377-1777280400-1777986000@njreentry.org
SUMMARY:NJRC Construction Package Class
DESCRIPTION:This NJRC-funded class runs for 7 days and offers clients nationally recognized certifications in the following areas: 30-Hour OSHA\, Fall Protection\, Drug & Alcohol Awareness\, Scaffolding\, and Flagger. These credentials are essential for careers in the construction industry and can support employment in a variety of roles across the field. \nTraining Dates Starts: Monday\, April 27\, 2026 \nTime: 9:00 AM – 1:00 PM \nLocation: The Governor’s Reentry Training and Employment Center\n195 Campus Drive\, Kearny\, NJ 07032 \nFor Court-Involved Persons Only! \nFor more information\, please contact: Katelyn Baez-Laureano at klaureano@njreentry.org
URL:https://njreentry.org/event/njrc-construction-package-class-13/
LOCATION:The Governor’s Reentry Training & Employment Center\, 195 Campus Drive\, Kearny\, NJ\, 07032\, United States
CATEGORIES:Classes
ATTACH;FMTTYPE=image/jpeg:https://njreentry.org/wp-content/uploads/2026/01/042726_Construction-Package-copy-scaled.jpg
END:VEVENT
BEGIN:VEVENT
DTSTART;TZID=America/New_York:20260429T090000
DTEND;TZID=America/New_York:20260429T130000
DTSTAMP:20260424T091246
CREATED:20260325T175908Z
LAST-MODIFIED:20260325T175908Z
UID:10002411-1777453200-1777467600@njreentry.org
SUMMARY:The Francine A. LeFrak Wellness Center
DESCRIPTION:The Francine A. LeFrak Wellness Center \nRWJBarnabas\, Clara Maass Medical Center provides on-site medical and behavioral health care screenings for NJRC program participants. Malo Smiles also provides dental screenings to participants. A substantial percentage\, upwards of two-thirds of NJRC participants\, while\nincarcerated\, have not had access to medical diagnostic care. \nIllnesses associated with incarceration\, namely diabetes\, hepatitis C\, and HIV\, are frequently not diagnosed in a timely manner. The LeFrak Center offers early diagnosis. \nWednesday from 9:00 AM to 1:00 PM \nFor more information please contact: \nClara Maass Medical Center – Clarissa Soto Vargas MHA\, clarissacoto.vargas@rwjbh.org – 973.450.2116 \nNJRC Reentry Training Center – Katelyn Laureano klaureano@njreentry.org – 973.982.6538
URL:https://njreentry.org/event/the-francine-a-lefrak-wellness-center-16/
LOCATION:The Governor’s Reentry Training & Employment Center\, 195 Campus Drive\, Kearny\, NJ\, 07032\, United States
CATEGORIES:Events
ATTACH;FMTTYPE=image/png:https://njreentry.org/wp-content/uploads/2025/06/The-Francine-A.-LeFrak-Wellness-Center-1-scaled.png
END:VEVENT
BEGIN:VEVENT
DTSTART;TZID=America/New_York:20260429T100000
DTEND;TZID=America/New_York:20260429T120000
DTSTAMP:20260424T091246
CREATED:20260325T180901Z
LAST-MODIFIED:20260325T180901Z
UID:10002413-1777456800-1777464000@njreentry.org
SUMMARY:NJRC Veteran Center Food Pantry Program
DESCRIPTION:NJRC Veteran Outreach – Veteran Center Food Pantry Program \nEvery Wednesday – 2:00 pm to 4:00 pm \nEvery Friday – 10:00 am to 12:00 pm \nLocated: 762A Roosevelt Avenue Carteret\, NJ 07008 (Veteran Center – Inside Carteret Shoprite Shopping Center) \nAll Veterans\, Seniors\, and NJRC Clients Are Welcome \nTHANK YOU FOR YOUR SERVICE! \nContact 201.252.7641 For Any Questions
URL:https://njreentry.org/event/njrc-veteran-center-food-pantry-program-16/
LOCATION:NJRC Carteret\, 762 Roosevelt Ave.\, Carteret\, NJ\, 07008\, United States
CATEGORIES:Events,Veterans Outreach Calendar
ATTACH;FMTTYPE=image/jpeg:https://njreentry.org/wp-content/uploads/2025/12/12-08-25_Veteran-Food-Pantry-copy-1-scaled.jpg
END:VEVENT
BEGIN:VEVENT
DTSTART;TZID=America/New_York:20260514T100000
DTEND;TZID=America/New_York:20260514T130000
DTSTAMP:20260424T091246
CREATED:20260414T230123Z
LAST-MODIFIED:20260414T230123Z
UID:10002417-1778752800-1778763600@njreentry.org
SUMMARY:NJRC Bergen County Job Fair
DESCRIPTION:Bergen County NJ Reentry Corporation is hosting a Job Fair on Thursday\, May 14th at the Bergen County Facility! \nEvent Details:\nTime: 10:00 AM – 1:00 PMLocation: 2 Bergen County Plaza\, Hackensack\, NJ 07601 \nThis event is held in partnership with the State of New Jersey and Bergen County Probation and is designed for court-involved individuals seeking employment opportunities. \nAdditional Information:\nConnect with employers\, explore career opportunities\, and take the next step toward professional growth. \nFor more information\, please contact:\nVictoria ScheperEmail: vscheper@njreentry.org \nAlexander RothEmail: aroth@njreentry.org \nDon’t miss out on this great opportunity!
URL:https://njreentry.org/event/njrc-bergen-county-job-fair/
LOCATION:Bergen County Plaza\, 2 Bergen County Plaza\, Hackensack\, NJ 07601\, Hackensack\, 07601\, United States
CATEGORIES:Events
ATTACH;FMTTYPE=image/jpeg:https://njreentry.org/wp-content/uploads/2026/04/Bergen-County-Job-Fair-3-scaled.jpg
END:VEVENT
BEGIN:VEVENT
DTSTART;TZID=America/New_York:20260515T100000
DTEND;TZID=America/New_York:20260515T130000
DTSTAMP:20260424T091246
CREATED:20260414T224919Z
LAST-MODIFIED:20260414T224919Z
UID:10002416-1778839200-1778850000@njreentry.org
SUMMARY:NJRC Hudson County Job Fair
DESCRIPTION:Friday\, May 15\, 202610:00 AM – 1:00 PMNew Jersey Reentry Corporation 591 Summit Avenue\, Jersey City\, NJ 07306 \nThe New Jersey Reentry Corporation (NJRC) is hosting a job fair to connect individuals with various employment opportunities in the Hudson County area. We’re partnering with employers offering diverse job openings. Whether you’re looking to make a difference in the community or jumpstart your career\, we want to help you find the right opportunity. \nCome explore job openings across multiple industries\, meet potential employers\, and find your next career path! \nFor more information\, please contact:Kathleen MurawskiPhone: 551-256-9687Email: kmurawski@njreentry.org \nRegister at: www.eventbrite.com
URL:https://njreentry.org/event/njrc-hudson-county-job-fair-3/
LOCATION:NJRC Jersey City\, 591 Summit Ave\, 6th Floor\, Jersey City\, Jersey City\, 07306\, United States
CATEGORIES:Events
ATTACH;FMTTYPE=image/jpeg:https://njreentry.org/wp-content/uploads/2026/04/Jersey-City-Job-Fair_5_15-scaled.jpg
END:VEVENT
END:VCALENDAR